BEGIN:VCALENDAR
VERSION:2.0
PRODID:-//Erste Hilfe Böker - ECPv6.14.2//NONSGML v1.0//EN
CALSCALE:GREGORIAN
METHOD:PUBLISH
X-ORIGINAL-URL:https://erstehilfe-boeker.de
X-WR-CALDESC:Veranstaltungen für Erste Hilfe Böker
REFRESH-INTERVAL;VALUE=DURATION:PT1H
X-Robots-Tag:noindex
X-PUBLISHED-TTL:PT1H
BEGIN:VTIMEZONE
TZID:Europe/Berlin
BEGIN:DAYLIGHT
TZOFFSETFROM:+0100
TZOFFSETTO:+0200
TZNAME:CEST
DTSTART:20230326T010000
END:DAYLIGHT
BEGIN:STANDARD
TZOFFSETFROM:+0200
TZOFFSETTO:+0100
TZNAME:CET
DTSTART:20231029T010000
END:STANDARD
END:VTIMEZONE
BEGIN:VEVENT
DTSTART;TZID=Europe/Berlin:20230530T083000
DTEND;TZID=Europe/Berlin:20230530T160000
DTSTAMP:20260419T145900
CREATED:20230215T081600Z
LAST-MODIFIED:20230215T091735Z
UID:381-1685435400-1685462400@erstehilfe-boeker.de
SUMMARY:Erste-Hilfe-Kurs in Hämelerwald Fahrschule Fahrfieber am 30. Mai ( Ferien)
DESCRIPTION:Der Erste-Hilfe-Kurs\, gültig für alle Führerscheinklassen: Wer einen Führerschein macht\, der benötigt einen Erste-Hilfe-Kurs. Diesen Kurs findest Du hier. \nDenn egal welchen Führerschein Du machst (Auto\, Roller\, Motorrad oder Lkw)\, dieser Kurs ist gültig für alle Führerscheinklassen. \nBeginn 8:30Uhr \nDieser 9 x 45 Min. umfassende Kurs ist für den Führerscheinerwerb oder die Ausbildung zum Ersthelfer im Betrieb notwendig und gilt z.B. für alle Führerscheinklassen\, Jugendgruppenleiter\, Erzieher\, Rettungsschwimmer\, Lehramts- od. Medizinstudenten\, Fitnesstrainer\, Piloten\, u.v.m. sowie für Angehörige in Betrieben und Unternehmen (i.d.R. kostenlos\, da Abrechnung mit BG / UK über uns möglich) um im Unternehmen als Betriebshelfer / Ersthelfer tätig zu sein.
URL:https://erstehilfe-boeker.de/event/erste-hilfe-kurs-in-haemelerwald-fahrschule-fahrfieber-am-30-mai-ferien/
LOCATION:Fahrschule Fahrfieber\, Niedersachsenstr. 14\, Hämelerwald\, 31275\, Deutschland
ORGANIZER;CN="Jens B%C3%B6ker":MAILTO:Erste-hilfe@gmx.org
END:VEVENT
END:VCALENDAR