BEGIN:VCALENDAR
VERSION:2.0
PRODID:-//Erste Hilfe Böker - ECPv6.14.2//NONSGML v1.0//EN
CALSCALE:GREGORIAN
METHOD:PUBLISH
X-WR-CALNAME:Erste Hilfe Böker
X-ORIGINAL-URL:https://erstehilfe-boeker.de
X-WR-CALDESC:Veranstaltungen für Erste Hilfe Böker
REFRESH-INTERVAL;VALUE=DURATION:PT1H
X-Robots-Tag:noindex
X-PUBLISHED-TTL:PT1H
BEGIN:VTIMEZONE
TZID:Europe/Berlin
BEGIN:DAYLIGHT
TZOFFSETFROM:+0100
TZOFFSETTO:+0200
TZNAME:CEST
DTSTART:20230326T010000
END:DAYLIGHT
BEGIN:STANDARD
TZOFFSETFROM:+0200
TZOFFSETTO:+0100
TZNAME:CET
DTSTART:20231029T010000
END:STANDARD
END:VTIMEZONE
BEGIN:VEVENT
DTSTART;TZID=Europe/Berlin:20230413T080000
DTEND;TZID=Europe/Berlin:20230413T123000
DTSTAMP:20260419T173427
CREATED:20230410T092009Z
LAST-MODIFIED:20230410T092009Z
UID:420-1681372800-1681389000@erstehilfe-boeker.de
SUMMARY:Brandschutzhelferschulung
DESCRIPTION:Brandschutzhelfer Schulung \n  \nDas Seminar erfolgt in Anlehnung an den § 10 des Arbeitsschutzgesetzes\, praktischer Teil (Löschübungen und Gerätetraining) die ASR A2.2 und die DGUV-Information 205-023 . \n  \nInhalte: theoretischer Teil (Brandlehre\, Löschen\, Löschtechniken) \npraktischer Teil (Löschübungen und Gerätetraining) \n  \n  \n  \n  \nBei Rückfragen stehen wir selbstverständlich jederzeit gerne zur Verfügung. \nE-Mail:           brandschutz-boeker@gmx.org
URL:https://erstehilfe-boeker.de/event/brandschutzhelferschulung/
ORGANIZER;CN="Jens B%C3%B6ker":MAILTO:Erste-hilfe@gmx.org
END:VEVENT
END:VCALENDAR