BEGIN:VCALENDAR
VERSION:2.0
PRODID:-//Erste Hilfe Böker - ECPv6.14.2//NONSGML v1.0//EN
CALSCALE:GREGORIAN
METHOD:PUBLISH
X-ORIGINAL-URL:https://erstehilfe-boeker.de
X-WR-CALDESC:Veranstaltungen für Erste Hilfe Böker
REFRESH-INTERVAL;VALUE=DURATION:PT1H
X-Robots-Tag:noindex
X-PUBLISHED-TTL:PT1H
BEGIN:VTIMEZONE
TZID:Europe/Berlin
BEGIN:DAYLIGHT
TZOFFSETFROM:+0100
TZOFFSETTO:+0200
TZNAME:CEST
DTSTART:20230326T010000
END:DAYLIGHT
BEGIN:STANDARD
TZOFFSETFROM:+0200
TZOFFSETTO:+0100
TZNAME:CET
DTSTART:20231029T010000
END:STANDARD
END:VTIMEZONE
BEGIN:VEVENT
DTSTART;TZID=Europe/Berlin:20230225T130000
DTEND;TZID=Europe/Berlin:20230325T160000
DTSTAMP:20260419T191904
CREATED:20230128T120357Z
LAST-MODIFIED:20230128T120706Z
UID:363-1677330000-1679760000@erstehilfe-boeker.de
SUMMARY:Erste Hilfe am Kind   am 25.02.23  um 13:00Uhr in Hämelerwald
DESCRIPTION:Ein Notfall macht keinen Termin. Und für Eltern\, Großeltern oder Betreuer gibt es nichts Schlimmeres\, als in so einer Situation hilflos zu sein. In unserem „Erste-Hilfe-am-Kind“ Kurs lernst Du alles\, was Du bei einem Notfall wissen musst. \n\n\n\nEinzelperson: 45\,-€  Paar: 80\,-€\n\n\n\nInklusive ein Handout und Teilnahmebescheinigung\n\n\n\nDieser Kurs ist ideal für: \n\nEltern\, Großeltern und alle\, die es bald werden\nErzieher\, Betreuer und Babysitter\nTagesmütter\nalle\, die mehr über Erste-Hilfe bei Kindern und Säuglingen wissen wollen\n\nDie Inhalte des Kurses sind: \n\nMaßnahmen bei Atemstörungen und Bewusstlosigkeit\nStabile Seitenlage\nHerz-Lungen-Wiederbelebung\nVerschlucken von Fremdkörpern\nPlötzlicher Kindstod\nPseudokrupp und Asthma\nVergiftungen\n\nund natürlich stehen Dir unsere Ausbilder für jegliche Fragen zur  Verfügung.
URL:https://erstehilfe-boeker.de/event/erste-hilfe-am-kind-am-25-02-23-um-1300uhr-in-haemelerwald/
LOCATION:Fahrschule Fahrfieber\, Niedersachsenstr. 14\, Hämelerwald\, 31275\, Deutschland
ORGANIZER;CN="Jens B%C3%B6ker":MAILTO:Erste-hilfe@gmx.org
END:VEVENT
END:VCALENDAR