BEGIN:VCALENDAR
VERSION:2.0
PRODID:-//Erste Hilfe Böker - ECPv6.14.2//NONSGML v1.0//EN
CALSCALE:GREGORIAN
METHOD:PUBLISH
X-ORIGINAL-URL:https://erstehilfe-boeker.de
X-WR-CALDESC:Veranstaltungen für Erste Hilfe Böker
REFRESH-INTERVAL;VALUE=DURATION:PT1H
X-Robots-Tag:noindex
X-PUBLISHED-TTL:PT1H
BEGIN:VTIMEZONE
TZID:Europe/Berlin
BEGIN:DAYLIGHT
TZOFFSETFROM:+0100
TZOFFSETTO:+0200
TZNAME:CEST
DTSTART:20230326T010000
END:DAYLIGHT
BEGIN:STANDARD
TZOFFSETFROM:+0200
TZOFFSETTO:+0100
TZNAME:CET
DTSTART:20231029T010000
END:STANDARD
END:VTIMEZONE
BEGIN:VEVENT
DTSTART;TZID=Europe/Berlin:20230130T090000
DTEND;TZID=Europe/Berlin:20230130T090000
DTSTAMP:20260419T205151
CREATED:20221221T143043Z
LAST-MODIFIED:20230125T190635Z
UID:344-1675069200-1675069200@erstehilfe-boeker.de
SUMMARY:Erste-Hilfe-Kurs in Sehnde Sonderpreis 35\,- € nur am 30.01.23
DESCRIPTION:Erste-Hilfe-Kurs in Sehnde Sonderpreis 35\,- € nur am 30.01.23\nNächste Erste-Hilfe-Kurs am Montag\, 30.01.23 (Zeugnisferien) in Sehnde bei Hornis Fahrschule. \nBeginn 09:00Uhr.\nDer Erste-Hilfe-Kurs ist auch gültig für alle Führerscheinklassen. \nAnmeldung in der Fahrschule oder unter 01792995523. \nBei Rückfragen stehen wir selbstverständlich jederzeit gerne zur Verfügung. \n 
URL:https://erstehilfe-boeker.de/event/erste-hilfe-kurs-in-sehnde-sonderpreis-35-e-nur-am-30-01-23/
LOCATION:Hornis Fahrschule\, Peiner Str. 32\, Sehnde\, 31319\, Deutschland
ATTACH;FMTTYPE=image/jpeg:https://erstehilfe-boeker.de/wp-content/uploads/2022/12/Rea-1.jpg
ORGANIZER;CN="Jens B%C3%B6ker":MAILTO:Erste-hilfe@gmx.org
END:VEVENT
END:VCALENDAR